BEGIN:VCALENDAR
VERSION:2.0
PRODID:-//ChamberMaster//Event Calendar 2.0//EN
METHOD:PUBLISH
X-PUBLISHED-TTL:P3D
REFRESH-INTERVAL:P3D
CALSCALE:GREGORIAN
BEGIN:VEVENT
DTSTART:20171208T180000Z
DTEND:20171209T030000Z
X-MICROSOFT-CDO-ALLDAYEVENT:FALSE
SUMMARY:Downtown Open House Promotional Night
DESCRIPTION:Shop your Downtown Stores as they will be open until 7pm
X-ALT-DESC;FMTTYPE=text/html:Shop your Downtown Stores as they will be open until 7pm
LOCATION:
UID:e.2225.1265
SEQUENCE:3
DTSTAMP:20260422T200045Z
URL:https://business.portervillechamber.org/events/details/downtown-open-house-promotional-night-1265
END:VEVENT

END:VCALENDAR
