BEGIN:VCALENDAR
VERSION:2.0
PRODID:-//ChamberMaster//Event Calendar 2.0//EN
METHOD:PUBLISH
X-PUBLISHED-TTL:P3D
REFRESH-INTERVAL:P3D
CALSCALE:GREGORIAN
BEGIN:VEVENT
DTSTART:20190409T173000Z
DTEND:20190409T190000Z
X-MICROSOFT-CDO-ALLDAYEVENT:FALSE
SUMMARY:Easter Bunny at the Library
DESCRIPTION:The Easter Bunny is hopping over to the Porterville City Library for a photo opportunity. If you provide a new unopened school supply\, you will recieve a 4x6 photo per family. Photos are free if using your own camera.
X-ALT-DESC;FMTTYPE=text/html:The Easter Bunny is hopping over to the Porterville City Library for a photo opportunity. If you provide a new unopened school supply\, you will recieve a 4x6 photo per family. Photos are free if using your own camera.&nbsp\;
LOCATION:Porterville City Library 41 W Thurman Ave
UID:e.2225.1931
SEQUENCE:3
DTSTAMP:20260421T140849Z
URL:https://business.portervillechamber.org/events/details/easter-bunny-at-the-library-1931
END:VEVENT

END:VCALENDAR
