BEGIN:VCALENDAR
VERSION:2.0
PRODID:-//ChamberMaster//Event Calendar 2.0//EN
METHOD:PUBLISH
X-PUBLISHED-TTL:P3D
REFRESH-INTERVAL:P3D
CALSCALE:GREGORIAN
BEGIN:VEVENT
DTSTART:20190520T200000Z
DTEND:20190521T020000Z
X-MICROSOFT-CDO-ALLDAYEVENT:FALSE
SUMMARY:Enrollment Express at FPU Visalia Campus
DESCRIPTION:Complete your bachelor's degree   transfer to Fresno Pacific University! Join us for our one-day enrollment event where going back to school is made as easy as possible. Receive academic advising\, learn about financial aid\, registration\, and student support services.
X-ALT-DESC;FMTTYPE=text/html:<div class="m_12668338663051763MsoListParagraph" style="margin: 0in 0in 0.0001pt 0.25in\; font-size: 11pt\; font-family: Calibri\, sans-serif\;"><span style="font-size:12px\;"><span style="font-family:arial\;">Complete your bachelor&rsquo\;s degree &ndash\; transfer to Fresno Pacific University! Join us for our one-day enrollment event where going back to school is made as easy as possible. Receive academic advising\, learn about financial aid\, registration\, and student support services.</span></span></div>\n
LOCATION:Visalia Campus 245 N. Plaza Drive Visalia\, CA 93291
UID:e.2225.1896
SEQUENCE:3
DTSTAMP:20260421T141034Z
URL:https://business.portervillechamber.org/events/details/enrollment-express-at-fpu-visalia-campus-1896
END:VEVENT

END:VCALENDAR
