BEGIN:VCALENDAR
VERSION:2.0
PRODID:-//ChamberMaster//Event Calendar 2.0//EN
METHOD:PUBLISH
X-PUBLISHED-TTL:P3D
REFRESH-INTERVAL:P3D
CALSCALE:GREGORIAN
BEGIN:VEVENT
DTSTART:20180611T200000Z
DTEND:20180612T020000Z
X-MICROSOFT-CDO-ALLDAYEVENT:FALSE
SUMMARY:Enrollment Express Event-FPU Visalia
DESCRIPTION:One-Day Enrollment!
X-ALT-DESC;FMTTYPE=text/html:One-Day Enrollment!
LOCATION:FPU Visalia Campus 245 N. Plaza Drive Visalia\, CA 93291
UID:e.2225.1499
SEQUENCE:3
DTSTAMP:20260422T073319Z
URL:https://business.portervillechamber.org/events/details/enrollment-express-event-fpu-visalia-1499
END:VEVENT

END:VCALENDAR
