BEGIN:VCALENDAR
VERSION:2.0
PRODID:-//ChamberMaster//Event Calendar 2.0//EN
METHOD:PUBLISH
X-PUBLISHED-TTL:P3D
REFRESH-INTERVAL:P3D
CALSCALE:GREGORIAN
BEGIN:VEVENT
DTSTART:20190407T040000Z
DTEND:20190407T080000Z
X-MICROSOFT-CDO-ALLDAYEVENT:FALSE
SUMMARY:Ex Wagon Masters Dance
DESCRIPTION:Come On Out and Join Us for the 2019 Dance and Have Rip Roaring Shoot Um Up Great Time! \nStay Tuned Here or on Face Book @  Jack Ass Mail Run or Email us at Jackass@pvilleca.com
X-ALT-DESC;FMTTYPE=text/html:<p style="text-align: center\;"><strong><em><span style="font-size:36px\;"><span style="color:#B22222\;">Come On Out and Join Us for the 2019 Dance and Have Rip Roaring Shoot Um Up Great Time! </span></span></em></strong></p>\n<strong><em><span style="font-size:36px\;"><span style="color:#B22222\;">Stay Tuned Here or on Face Book @&nbsp\; Jack Ass Mail Run or Email us at Jackass@pvilleca.com</span></span></em></strong>
LOCATION:Charlies 1531 N. Main St.
UID:e.2225.1892
SEQUENCE:3
DTSTAMP:20260421T140644Z
URL:https://business.portervillechamber.org/events/details/ex-wagon-masters-dance-1892
END:VEVENT

END:VCALENDAR
