BEGIN:VCALENDAR
VERSION:2.0
PRODID:-//ChamberMaster//Event Calendar 2.0//EN
METHOD:PUBLISH
X-PUBLISHED-TTL:P3D
REFRESH-INTERVAL:P3D
CALSCALE:GREGORIAN
BEGIN:VEVENT
DTSTART:20190425T230000Z
DTEND:20190426T020000Z
X-MICROSOFT-CDO-ALLDAYEVENT:FALSE
SUMMARY:Fair Housing Month Celebration
DESCRIPTION:Resources for tenants\, prospective home buyers\, and exisiting home owners. This event is free to the public and will have raffle prizes.
X-ALT-DESC;FMTTYPE=text/html:Resources for tenants\, prospective home buyers\, and exisiting home owners. This event is free to the public and will have raffle prizes.&nbsp\;
LOCATION:Centennial Plaza Park 296 N Main Street Porterville\, CA 93527
UID:e.2225.1925
SEQUENCE:3
DTSTAMP:20260421T140830Z
URL:https://business.portervillechamber.org/events/details/fair-housing-month-celebration-1925
END:VEVENT

END:VCALENDAR
