BEGIN:VCALENDAR
VERSION:2.0
PRODID:-//ChamberMaster//Event Calendar 2.0//EN
METHOD:PUBLISH
X-PUBLISHED-TTL:P3D
REFRESH-INTERVAL:P3D
CALSCALE:GREGORIAN
BEGIN:VEVENT
DTSTART:20201112T170000Z
DTEND:20201112T210000Z
X-MICROSOFT-CDO-ALLDAYEVENT:FALSE
SUMMARY:Fall Paper Shredding Event
DESCRIPTION:Shred-it & forget it!\n \n\nThe Porterville Chamber of Commerce presents a paper shredding event with on-site mobile shredding from Pena's Disposal Service.\n\n\n\n\n\nThe service fee is $5 per box\, remember the first 2 boxes are FREE to current Chamber Members.\n \n\nPlease no x-ray film\, film of any kind\, metal clips\, binder clips\, plastic folders\, plastic sheet protectors\, and file hangers.
X-ALT-DESC;FMTTYPE=text/html:<h1><span style="font-size:28px">Shred-it &amp\; forget it!</span></h1>\n&nbsp\;\n\n<h1><span style="font-size:22px"><strong>The Porterville Chamber of Commerce</strong> presents a paper shredding event with on-site mobile shredding from Pena&#39\;s Disposal Service.<br />\n<br />\n<br />\nThe service fee is $5 per b<em>ox\, remember the first 2 boxes are FREE to current Chamber Members</em>.</span></h1>\n&nbsp\;\n\n<h2 style="text-align:center"><em><strong><span style="font-size:20px">Please no <span style="background-color:rgb(240\, 240\, 240)\; font-family:arial\,sans-serif">x-ray film\, film of any kind\, metal clips\, binder clips\, plastic folders\, plastic sheet protectors\, and file hangers.</span></span></strong></em></h2>\n
LOCATION:The parking lot of 311 N. Second St.
UID:e.2225.2152
SEQUENCE:3
DTSTAMP:20260420T045605Z
URL:https://business.portervillechamber.org/events/details/fall-paper-shredding-event-2152
END:VEVENT

END:VCALENDAR
