BEGIN:VCALENDAR
VERSION:2.0
PRODID:-//ChamberMaster//Event Calendar 2.0//EN
METHOD:PUBLISH
X-PUBLISHED-TTL:P3D
REFRESH-INTERVAL:P3D
CALSCALE:GREGORIAN
BEGIN:VEVENT
DTSTART:20191116T180000Z
DTEND:20191116T200000Z
X-MICROSOFT-CDO-ALLDAYEVENT:FALSE
SUMMARY:Family Craft Workshop
DESCRIPTION:The Imagine Community Arts Center is hosting a Family Craft Workshop from 10:00 a.m. - 12:00 p.m. on Saturday\, November 16th.\n\nFor more information\, visit their website!
X-ALT-DESC;FMTTYPE=text/html:The Imagine Community Arts Center is hosting a Family Craft Workshop from 10:00 a.m. - 12:00 p.m. on Saturday\, November 16th.<br />\nFor more information\, visit their website!&nbsp\;
LOCATION:Imagine Community Arts Center 93 N. Main Street\, Suite D Porterville\, CA 93257
UID:e.2225.2085
SEQUENCE:3
DTSTAMP:20260421T015029Z
URL:https://business.portervillechamber.org/events/details/family-craft-workshop-2085
END:VEVENT

END:VCALENDAR
