BEGIN:VCALENDAR
VERSION:2.0
PRODID:-//ChamberMaster//Event Calendar 2.0//EN
METHOD:PUBLISH
X-PUBLISHED-TTL:P3D
REFRESH-INTERVAL:P3D
CALSCALE:GREGORIAN
BEGIN:VEVENT
DTSTART:20170910T233000Z
DTEND:20170911T030000Z
X-MICROSOFT-CDO-ALLDAYEVENT:FALSE
SUMMARY:Family Crisis Center Sunday Social Dinner & Auction
DESCRIPTION:Sunday Social Dinner & Dessert Auction\n\nFor tickets please call Sharon Fusco 781-2488 or 361-1242
X-ALT-DESC;FMTTYPE=text/html:Sunday Social Dinner &amp\; Dessert Auction<br />\nFor tickets please call Sharon Fusco 781-2488 or 361-1242
LOCATION:United Methodist Church
UID:e.2225.1214
SEQUENCE:3
DTSTAMP:20260422T234212Z
URL:https://business.portervillechamber.org/events/details/family-crisis-center-sunday-social-dinner-auction-1214
END:VEVENT

END:VCALENDAR
