BEGIN:VCALENDAR
VERSION:2.0
PRODID:-//ChamberMaster//Event Calendar 2.0//EN
METHOD:PUBLISH
X-PUBLISHED-TTL:P3D
REFRESH-INTERVAL:P3D
CALSCALE:GREGORIAN
BEGIN:VEVENT
DTSTART:20171004T190000Z
DTEND:20171004T203000Z
X-MICROSOFT-CDO-ALLDAYEVENT:FALSE
SUMMARY:Family Member & Support Persons: Lunch & Learn Crisis Support
DESCRIPTION:October Topic: Supports Available to Prevent Crisis\n\nFamily Member & Support Persons "Lunch & Learn" a monthly series about mental health issues and services with presentations by local mental health professionals.\n\n\n\nPresentations by: Tulare County Warmline non-crisis phone service\, Porterville Police Hostage Negotiator\, and Crisis Intervention Team.\n\n\n\n*Lunch will be provided and all are welcomed to attend
X-ALT-DESC;FMTTYPE=text/html:<strong><u>October Topic: Supports Available to Prevent Crisis</u></strong><br />\nFamily Member &amp\; Support Persons &quot\;Lunch &amp\; Learn&quot\; a monthly series about mental health issues and services with presentations by local mental health professionals.<br />\n<br />\n<u><strong>Presentations by</strong></u>: Tulare County Warmline non-crisis phone service\, Porterville Police Hostage Negotiator\, and Crisis Intervention Team.<br />\n<br />\n*Lunch will be provided and all are welcomed to attend
LOCATION:Hosted by: Porterville Wellness Center 333 W. Henderson Ave Porterville\, CA 93257
UID:e.2225.1254
SEQUENCE:3
DTSTAMP:20260422T214845Z
URL:https://business.portervillechamber.org/events/details/family-member-support-persons-lunch-learn-crisis-support-1254
END:VEVENT

END:VCALENDAR
