BEGIN:VCALENDAR
VERSION:2.0
PRODID:-//ChamberMaster//Event Calendar 2.0//EN
METHOD:PUBLISH
X-PUBLISHED-TTL:P3D
REFRESH-INTERVAL:P3D
CALSCALE:GREGORIAN
BEGIN:VEVENT
DTSTART:20190112T190000Z
DTEND:20190112T220000Z
X-MICROSOFT-CDO-ALLDAYEVENT:FALSE
SUMMARY:Fire On Black Mountain - Book Signing
DESCRIPTION:Brent Gill author of Fire On Black Mountain will be having a book signing this Saturday January 12\, 2019 in front of the Porterville Recorder.
X-ALT-DESC;FMTTYPE=text/html:Brent Gill author of Fire On Black Mountain will be having a book signing this Saturday January 12\, 2019 in front of the Porterville Recorder.
LOCATION:Porterville Recorder 115 East Oak Ave.
UID:e.2225.1858
SEQUENCE:3
DTSTAMP:20260421T192324Z
URL:https://business.portervillechamber.org/events/details/fire-on-black-mountain-book-signing-1858
END:VEVENT

END:VCALENDAR
