BEGIN:VCALENDAR
VERSION:2.0
PRODID:-//ChamberMaster//Event Calendar 2.0//EN
METHOD:PUBLISH
X-PUBLISHED-TTL:P3D
REFRESH-INTERVAL:P3D
CALSCALE:GREGORIAN
BEGIN:VEVENT
DTSTART:20180202T150000Z
DTEND:20180202T161500Z
X-MICROSOFT-CDO-ALLDAYEVENT:FALSE
SUMMARY:First Friday Coffee
DESCRIPTION:Join CASA of Tulare County at the Porterville Chamber's "First Friday Coffee" -- an opportunity to network with other local business representatives and community leaders\, learn about important updates from city\, county\, state and federal government representatives\, find out what projects are ahead for the Chamber and learn more about CASA of Tulare County -- complimentary continental breakfast included!
X-ALT-DESC;FMTTYPE=text/html:<span style="color: rgb(29\, 33\, 41)\; font-family: Helvetica\, Arial\, sans-serif\; font-size: 14px\;">Join&nbsp\;</span><a class="profileLink" data-hovercard="/ajax/hovercard/page.php?id=107443862675008&amp\;extragetparams=%7B%22fref%22%3A%22mentions%22%7D" data-hovercard-prefer-more-content-show="1" href="https://www.facebook.com/CASAofTulareCounty/?fref=mentions" style="color: rgb(54\, 88\, 153)\; text-decoration-line: none\; font-family: Helvetica\, Arial\, sans-serif\; font-size: 14px\;">CASA of Tulare County</a><span style="color: rgb(29\, 33\, 41)\; font-family: Helvetica\, Arial\, sans-serif\; font-size: 14px\;">&nbsp\;at the&nbsp\;</span><a class="profileLink" data-hovercard="/ajax/hovercard/page.php?id=403343473066821&amp\;extragetparams=%7B%22fref%22%3A%22mentions%22%7D" data-hovercard-prefer-more-content-show="1" href="https://www.facebook.com/porterville.chamber/?fref=mentions" style="color: rgb(54\, 88\, 153)\; text-decoration-line: none\; font-family: Helvetica\, Arial\, sans-serif\; font-size: 14px\;">Porterville Chamber</a><span style="color: rgb(29\, 33\, 41)\; font-family: Helvetica\, Arial\, sans-serif\; font-size: 14px\;">&#39\;s &quot\;First Friday Coffee&quot\; -- an opportunity to network with other local business representatives and community leaders\, learn about important updates from city\, county\, state and federal government representatives\, find out what projects are ahead for the Chamber and learn more about&nbsp\;</span><a class="profileLink" data-hovercard="/ajax/hovercard/page.php?id=107443862675008&amp\;extragetparams=%7B%22fref%22%3A%22mentions%22%7D" data-hovercard-prefer-more-content-show="1" href="https://www.facebook.com/CASAofTulareCounty/?fref=mentions" style="color: rgb(54\, 88\, 153)\; text-decoration-line: none\; font-family: Helvetica\, Arial\, sans-serif\; font-size: 14px\;">CASA of Tulare County</a><span style="color: rgb(29\, 33\, 41)\; font-family: Helvetica\, Arial\, sans-serif\; font-size: 14px\;">&nbsp\;-- complimentary continental breakfast included!</span>
LOCATION:Galaxy 9 Theatre 631 N Indiana
UID:e.2225.1268
SEQUENCE:3
DTSTAMP:20260422T144538Z
URL:https://business.portervillechamber.org/events/details/first-friday-coffee-1268
END:VEVENT

END:VCALENDAR
