BEGIN:VCALENDAR
VERSION:2.0
PRODID:-//ChamberMaster//Event Calendar 2.0//EN
METHOD:PUBLISH
X-PUBLISHED-TTL:P3D
REFRESH-INTERVAL:P3D
CALSCALE:GREGORIAN
BEGIN:VEVENT
DTSTART:20180302T150000Z
DTEND:20180302T160000Z
X-MICROSOFT-CDO-ALLDAYEVENT:FALSE
SUMMARY:First Friday Coffee
DESCRIPTION:Sponsored by California Tutoring Company\, LLC
X-ALT-DESC;FMTTYPE=text/html:Sponsored by California Tutoring Company\, LLC
LOCATION:Galaxy 9 Theatre 631 N Indiana
UID:e.2225.1281
SEQUENCE:3
DTSTAMP:20260422T131656Z
URL:https://business.portervillechamber.org/events/details/first-friday-coffee-1281
END:VEVENT

END:VCALENDAR
