BEGIN:VCALENDAR
VERSION:2.0
PRODID:-//ChamberMaster//Event Calendar 2.0//EN
METHOD:PUBLISH
X-PUBLISHED-TTL:P3D
REFRESH-INTERVAL:P3D
CALSCALE:GREGORIAN
BEGIN:VEVENT
DTSTART:20181005T140000Z
DTEND:20181005T151500Z
X-MICROSOFT-CDO-ALLDAYEVENT:FALSE
SUMMARY:First Friday Coffee
DESCRIPTION:Sponsored by: Toys For Tots\, Relay For Life\, American Cancer Society\n\nConnecting with other local business representatives\, find out what projects and events are ahead for the community.
X-ALT-DESC;FMTTYPE=text/html:Sponsored by: Toys For Tots\, Relay For Life\, American Cancer Society<br />\nConnecting with other local business representatives\, find out what projects and events are ahead for the community.
LOCATION:Galaxy 9 Theatre\, 631 North Indiana
UID:e.2225.1800
SEQUENCE:3
DTSTAMP:20260422T003129Z
URL:https://business.portervillechamber.org/events/details/first-friday-coffee-1800
END:VEVENT

END:VCALENDAR
