BEGIN:VCALENDAR
VERSION:2.0
PRODID:-//ChamberMaster//Event Calendar 2.0//EN
METHOD:PUBLISH
X-PUBLISHED-TTL:P3D
REFRESH-INTERVAL:P3D
CALSCALE:GREGORIAN
BEGIN:VEVENT
DTSTART:20181207T150000Z
DTEND:20181207T161500Z
X-MICROSOFT-CDO-ALLDAYEVENT:FALSE
SUMMARY:First Friday Coffee
DESCRIPTION:
X-ALT-DESC;FMTTYPE=text/html:
LOCATION:Galaxy 9 Theatre\, 631 North Indiana
UID:e.2225.1801
SEQUENCE:3
DTSTAMP:20260421T210937Z
URL:https://business.portervillechamber.org/events/details/first-friday-coffee-1801
END:VEVENT

END:VCALENDAR
