BEGIN:VCALENDAR
VERSION:2.0
PRODID:-//ChamberMaster//Event Calendar 2.0//EN
METHOD:PUBLISH
X-PUBLISHED-TTL:P3D
REFRESH-INTERVAL:P3D
CALSCALE:GREGORIAN
BEGIN:VEVENT
DTSTART:20200103T150000Z
DTEND:20200103T161500Z
X-MICROSOFT-CDO-ALLDAYEVENT:FALSE
SUMMARY:First Friday Coffee
DESCRIPTION:
X-ALT-DESC;FMTTYPE=text/html:
LOCATION:Valley Adult Day Services 227 E. Oak Avenue Porterville\, CA 93257
UID:e.2225.2098
SEQUENCE:3
DTSTAMP:20260420T220933Z
URL:https://business.portervillechamber.org/events/details/first-friday-coffee-2098
END:VEVENT

END:VCALENDAR
