BEGIN:VCALENDAR
VERSION:2.0
PRODID:-//ChamberMaster//Event Calendar 2.0//EN
METHOD:PUBLISH
X-PUBLISHED-TTL:P3D
REFRESH-INTERVAL:P3D
CALSCALE:GREGORIAN
BEGIN:VEVENT
DTSTART:20200207T150000Z
DTEND:20200207T161500Z
X-MICROSOFT-CDO-ALLDAYEVENT:FALSE
SUMMARY:First Friday Coffee: Burton School District
DESCRIPTION:Join us at our First Friday Coffee sponsored by Burton School District! Enjoy complimentary coffee and refreshments\, and meet community business members. \n\n\n\nWe hope to see you there!
X-ALT-DESC;FMTTYPE=text/html:<span style="color: rgb(29\, 33\, 41)\; font-family: Helvetica\, Arial\, sans-serif\; font-size: 14px\; white-space: pre-wrap\;">Join us at our First Friday Coffee sponsored by Burton School District! Enjoy complimentary coffee and refreshments\, and meet community business members. </span><br />\n<br />\nWe hope to see you there!&nbsp\;
LOCATION:Galaxy 9 Theatre 631 N Indiana Street Porterville\, CA 93257
UID:e.2225.2118
SEQUENCE:3
DTSTAMP:20260420T202623Z
URL:https://business.portervillechamber.org/events/details/first-friday-coffee-burton-school-district-2118
END:VEVENT

END:VCALENDAR
