BEGIN:VCALENDAR
VERSION:2.0
PRODID:-//ChamberMaster//Event Calendar 2.0//EN
METHOD:PUBLISH
X-PUBLISHED-TTL:P3D
REFRESH-INTERVAL:P3D
CALSCALE:GREGORIAN
BEGIN:VEVENT
DTSTART:20181102T140000Z
DTEND:20181102T151500Z
X-MICROSOFT-CDO-ALLDAYEVENT:FALSE
SUMMARY:First Friday Coffee - Canceled
DESCRIPTION:This week's First Friday Coffee has been canceled. We apologise for the inconvenience. We look forward to seeing you at the next one.
X-ALT-DESC;FMTTYPE=text/html:This week&#39\;s First Friday Coffee has been canceled. We apologise for the inconvenience. We look forward to seeing you at the next one.
LOCATION:Galaxy 9 Theatre\, 631 North Indiana
UID:e.2225.1802
SEQUENCE:3
DTSTAMP:20260422T003153Z
URL:https://business.portervillechamber.org/events/details/first-friday-coffee-canceled-1802
END:VEVENT

END:VCALENDAR
