BEGIN:VCALENDAR
VERSION:2.0
PRODID:-//ChamberMaster//Event Calendar 2.0//EN
METHOD:PUBLISH
X-PUBLISHED-TTL:P3D
REFRESH-INTERVAL:P3D
CALSCALE:GREGORIAN
BEGIN:VEVENT
DTSTART:20180601T140000Z
DTEND:20180601T150000Z
X-MICROSOFT-CDO-ALLDAYEVENT:FALSE
SUMMARY:First Friday Coffee- Sponsored by Eagle Mountain Casino
DESCRIPTION:Eagle Mountain Casino will be hosting our First Friday Coffee! Join us for a light continental breakfast\, prizes and of course Coffee!
X-ALT-DESC;FMTTYPE=text/html:Eagle Mountain Casino will be hosting our First Friday Coffee! Join us for a light continental breakfast\, prizes and of course Coffee!&nbsp\;
LOCATION:Galaxy 9 Theatre
UID:e.2225.1478
SEQUENCE:3
DTSTAMP:20260422T073221Z
URL:https://business.portervillechamber.org/events/details/first-friday-coffee-sponsored-by-eagle-mountain-casino-1478
END:VEVENT

END:VCALENDAR
