BEGIN:VCALENDAR
VERSION:2.0
PRODID:-//ChamberMaster//Event Calendar 2.0//EN
METHOD:PUBLISH
X-PUBLISHED-TTL:P3D
REFRESH-INTERVAL:P3D
CALSCALE:GREGORIAN
BEGIN:VEVENT
DTSTART:20170901T140000Z
DTEND:20170901T151500Z
X-MICROSOFT-CDO-ALLDAYEVENT:FALSE
SUMMARY:First Friday Coffee
DESCRIPTION:First Friday Coffee - Sponsored by Sierra View Medical Center
X-ALT-DESC;FMTTYPE=text/html:First Friday Coffee - Sponsored by Sierra View Medical Center
LOCATION:Galaxy 9 Theatre
UID:e.2225.956
SEQUENCE:3
DTSTAMP:20260422T233928Z
URL:https://business.portervillechamber.org/events/details/first-friday-coffee-sponsored-by-sierra-view-medical-center-09-01-2017-956
END:VEVENT

END:VCALENDAR
