BEGIN:VCALENDAR
VERSION:2.0
PRODID:-//ChamberMaster//Event Calendar 2.0//EN
METHOD:PUBLISH
X-PUBLISHED-TTL:P3D
REFRESH-INTERVAL:P3D
CALSCALE:GREGORIAN
BEGIN:VEVENT
DTSTART:20191206T150000Z
DTEND:20191206T161500Z
X-MICROSOFT-CDO-ALLDAYEVENT:FALSE
SUMMARY:First Friday Coffee: State of the City
DESCRIPTION:
X-ALT-DESC;FMTTYPE=text/html:
LOCATION:Galaxy 9 Theatre 361 North Indiana Street\, Porterville\, CA 93257
UID:e.2225.1814
SEQUENCE:3
DTSTAMP:20260421T015408Z
URL:https://business.portervillechamber.org/events/details/first-friday-coffee-state-of-the-city-1814
END:VEVENT

END:VCALENDAR
