BEGIN:VCALENDAR
VERSION:2.0
PRODID:-//ChamberMaster//Event Calendar 2.0//EN
METHOD:PUBLISH
X-PUBLISHED-TTL:P3D
REFRESH-INTERVAL:P3D
CALSCALE:GREGORIAN
BEGIN:VEVENT
DTSTART:20190906T140000Z
DTEND:20190906T151500Z
X-MICROSOFT-CDO-ALLDAYEVENT:FALSE
SUMMARY:First Friday Coffee with AgriCare and Homegrown Organic Farms
DESCRIPTION:
X-ALT-DESC;FMTTYPE=text/html:
LOCATION:Galaxy 9 Theater 361 North Indiana Porterville\, CA 93257
UID:e.2225.1811
SEQUENCE:3
DTSTAMP:20260421T054730Z
URL:https://business.portervillechamber.org/events/details/first-friday-coffee-with-agricare-and-homegrown-organic-farms-1811
END:VEVENT

END:VCALENDAR
