BEGIN:VCALENDAR
VERSION:2.0
PRODID:-//ChamberMaster//Event Calendar 2.0//EN
METHOD:PUBLISH
X-PUBLISHED-TTL:P3D
REFRESH-INTERVAL:P3D
CALSCALE:GREGORIAN
BEGIN:VEVENT
DTSTART:20190607T140000Z
DTEND:20190607T151500Z
X-MICROSOFT-CDO-ALLDAYEVENT:FALSE
SUMMARY:First Friday Coffee with Eagle Mountain Casino and TREDC
DESCRIPTION:
X-ALT-DESC;FMTTYPE=text/html:
LOCATION:Galaxy 9 Theater\, 361 North Indiana
UID:e.2225.1808
SEQUENCE:3
DTSTAMP:20260421T110428Z
URL:https://business.portervillechamber.org/events/details/first-friday-coffee-with-eagle-mountain-casino-and-tredc-1808
END:VEVENT

END:VCALENDAR
