BEGIN:VCALENDAR
VERSION:2.0
PRODID:-//ChamberMaster//Event Calendar 2.0//EN
METHOD:PUBLISH
X-PUBLISHED-TTL:P3D
REFRESH-INTERVAL:P3D
CALSCALE:GREGORIAN
BEGIN:VEVENT
DTSTART:20191101T140000Z
DTEND:20191101T151500Z
X-MICROSOFT-CDO-ALLDAYEVENT:FALSE
SUMMARY:First Friday Coffee with Fresno Pacific University
DESCRIPTION:Join us for our First Friday Coffee Sponsored by Fresno Pacific University\, Visalia Campus at the Galaxy 9 Theatre. Connect with other local business representatives and learn about upcoming community events. We hope to see you there!
X-ALT-DESC;FMTTYPE=text/html:<span style="font-size:12px\;"><span style="color: rgb(28\, 30\, 33)\; font-family: Helvetica\, Arial\, sans-serif\;">Join us for our First Friday Coffee Sponsored by Fresno Pacific University\, Visalia Campus at the Galaxy 9 Theatre. Connect with other local business representatives and learn about upcoming community events. We hope to see you there!</span></span>
LOCATION:Galaxy 9 Theatre\, 361 North Indiana
UID:e.2225.1813
SEQUENCE:3
DTSTAMP:20260421T015245Z
URL:https://business.portervillechamber.org/events/details/first-friday-coffee-with-fresno-pacific-university-1813
END:VEVENT

END:VCALENDAR
