BEGIN:VCALENDAR
VERSION:2.0
PRODID:-//ChamberMaster//Event Calendar 2.0//EN
METHOD:PUBLISH
X-PUBLISHED-TTL:P3D
REFRESH-INTERVAL:P3D
CALSCALE:GREGORIAN
BEGIN:VEVENT
DTSTART:20190802T140000Z
DTEND:20190802T151500Z
X-MICROSOFT-CDO-ALLDAYEVENT:FALSE
SUMMARY:First Friday Coffee with Office Max
DESCRIPTION:Come out to our First Friday Coffee with Office Max to connect with other local business representatives. Find out what projects and events are ahead for the community. \n\nNetworking-Information-Light Breakfast
X-ALT-DESC;FMTTYPE=text/html:Come out to our First Friday Coffee with Office Max to connect with other local business representatives. Find out what projects and events are ahead for the community.&nbsp\;<br />\nNetworking-Information-Light Breakfast
LOCATION:Office Max 1260 W. Henderson Ave\, Porterville\, CA 93257
UID:e.2225.1993
SEQUENCE:3
DTSTAMP:20260421T072444Z
URL:https://business.portervillechamber.org/events/details/first-friday-coffee-with-office-max-1993
END:VEVENT

END:VCALENDAR
