BEGIN:VCALENDAR
VERSION:2.0
PRODID:-//ChamberMaster//Event Calendar 2.0//EN
METHOD:PUBLISH
X-PUBLISHED-TTL:P3D
REFRESH-INTERVAL:P3D
CALSCALE:GREGORIAN
BEGIN:VEVENT
DTSTART:20181027T170000Z
DTEND:20181027T200000Z
X-MICROSOFT-CDO-ALLDAYEVENT:FALSE
SUMMARY:Food Day with FoodLink For Tulare County
DESCRIPTION:Food Day is a national celebration with a united vision for healthy\, affordable\, and sustainable food that is produced with care for the environment\, farm animals\, and the people who grow\, harvest\, and serve it.
X-ALT-DESC;FMTTYPE=text/html:Food Day is a national celebration with a united vision for healthy\, affordable\, and sustainable food that is produced with care for the environment\, farm animals\, and the people who grow\, harvest\, and serve it.
LOCATION:611 2nd Street Exeter\, CA 93221
UID:e.2225.1508
SEQUENCE:3
DTSTAMP:20260422T003646Z
URL:https://business.portervillechamber.org/events/details/food-day-with-foodlink-for-tulare-county-1508
END:VEVENT

END:VCALENDAR
