BEGIN:VCALENDAR
VERSION:2.0
PRODID:-//ChamberMaster//Event Calendar 2.0//EN
METHOD:PUBLISH
X-PUBLISHED-TTL:P3D
REFRESH-INTERVAL:P3D
CALSCALE:GREGORIAN
BEGIN:VEVENT
DTSTART;VALUE=DATE:20190524
DTEND;VALUE=DATE:20190525
TRANSP:TRANSPARENT
X-MICROSOFT-CDO-ALLDAYEVENT:TRUE
SUMMARY:Fourth Annual Military Banner Ceremony
DESCRIPTION:Commemorative banners for 175 former and active service members from the Porterville community will be raised along major streets in Porterville.
X-ALT-DESC;FMTTYPE=text/html:<span style="font-family: Calibri\, Helvetica\, sans-serif\, EmojiFont\, &quot\;Apple Color Emoji&quot\;\, &quot\;Segoe UI Emoji&quot\;\, NotoColorEmoji\, &quot\;Segoe UI Symbol&quot\;\, &quot\;Android Emoji&quot\;\, EmojiSymbols\; font-size: 16px\; background-color: rgb(255\, 255\, 255)\;">Commemorative banners for 175 former and active service members from the Porterville community will be raised along major streets in Porterville.</span>
LOCATION:Centennial Park 296 N. Main Street Porterville\, CA
UID:e.2225.1952
SEQUENCE:3
DTSTAMP:20260421T125039Z
URL:https://business.portervillechamber.org/events/details/fourth-annual-military-banner-ceremony-1952
END:VEVENT

END:VCALENDAR
