BEGIN:VCALENDAR
VERSION:2.0
PRODID:-//ChamberMaster//Event Calendar 2.0//EN
METHOD:PUBLISH
X-PUBLISHED-TTL:P3D
REFRESH-INTERVAL:P3D
CALSCALE:GREGORIAN
BEGIN:VEVENT
DTSTART:20180928T150000Z
DTEND:20180928T190000Z
X-MICROSOFT-CDO-ALLDAYEVENT:FALSE
SUMMARY:Free Prostate Screenings
DESCRIPTION:
X-ALT-DESC;FMTTYPE=text/html:
LOCATION:Cancer Treatment Center 465 W. Putnam Ave Porterville\, CA 93257
UID:e.2225.1793
SEQUENCE:3
DTSTAMP:20260422T022318Z
URL:https://business.portervillechamber.org/events/details/free-prostate-screenings-1793
END:VEVENT

END:VCALENDAR
