BEGIN:VCALENDAR
VERSION:2.0
PRODID:-//ChamberMaster//Event Calendar 2.0//EN
METHOD:PUBLISH
X-PUBLISHED-TTL:P3D
REFRESH-INTERVAL:P3D
CALSCALE:GREGORIAN
BEGIN:VEVENT
DTSTART:20170730T000000Z
DTEND:20170730T040000Z
X-MICROSOFT-CDO-ALLDAYEVENT:FALSE
SUMMARY:FREE Summer Concert Series
DESCRIPTION:Free Summer Concert Series
X-ALT-DESC;FMTTYPE=text/html:Free Summer Concert Series
LOCATION:Downtown Main Street - Centennial Park
UID:e.2225.1224
SEQUENCE:3
DTSTAMP:20260423T033041Z
URL:https://business.portervillechamber.org/events/details/free-summer-concert-series-1224
END:VEVENT

END:VCALENDAR
