BEGIN:VCALENDAR
VERSION:2.0
PRODID:-//ChamberMaster//Event Calendar 2.0//EN
METHOD:PUBLISH
X-PUBLISHED-TTL:P3D
REFRESH-INTERVAL:P3D
CALSCALE:GREGORIAN
BEGIN:VEVENT
DTSTART:20190630T000000Z
DTEND:20190630T050000Z
X-MICROSOFT-CDO-ALLDAYEVENT:FALSE
SUMMARY:Freedom Fest
DESCRIPTION:Celebrated each year on the Saturday before the Independence holiday\, the Freedom Fest has grown into an event that is both anticipated and appreciated by the entire community.  The festival showcases musical entertainment\, a patriotic aerial performance\, an array of local food vendors\, and more.  The finale to the evening is the spectacular display of fireworks!
X-ALT-DESC;FMTTYPE=text/html:<span style="color: rgb(128\, 128\, 128)\; font-family: Verdana\, Geneva\, sans-serif\; font-size: 12px\; background-color: rgb(255\, 255\, 255)\;">Celebrated each year on the Saturday before the Independence holiday\, the Freedom Fest has grown into an event that is both anticipated and appreciated by the entire community.&nbsp\; The festival showcases musical entertainment\, a patriotic aerial performance\, an array of local food vendors\, and more.&nbsp\; The finale to the evening is the spectacular display of fireworks!</span>
LOCATION:Porterville Sports Complex\, 2701 W Scranton Ave
UID:e.2225.1924
SEQUENCE:3
DTSTAMP:20260421T123057Z
URL:https://business.portervillechamber.org/events/details/freedom-fest-1924
END:VEVENT

END:VCALENDAR
