BEGIN:VCALENDAR
VERSION:2.0
PRODID:-//ChamberMaster//Event Calendar 2.0//EN
METHOD:PUBLISH
X-PUBLISHED-TTL:P3D
REFRESH-INTERVAL:P3D
CALSCALE:GREGORIAN
BEGIN:VEVENT
DTSTART:20191114T210000Z
DTEND:20191115T030000Z
X-MICROSOFT-CDO-ALLDAYEVENT:FALSE
SUMMARY:Fresno Pacific University Enrollment Express
DESCRIPTION:Join Fresno Pacific University Visalia Campus for their Enrollment Express on  Thursday\, November 14th at Porterville College. It is a one-day enrollment event where continuing your education is made as easy as possible. Receive academic advising\, learn about financial aid\, registration and student support services.
X-ALT-DESC;FMTTYPE=text/html:<span style="font-size:12px\;">Join Fresno Pacific University Visalia Campus for their Enrollment Express on&nbsp\; Thursday\, November 14th at Porterville College. It is a o<span style="color: rgb(29\, 33\, 41)\; font-family: Helvetica\, Arial\, sans-serif\; white-space: pre-wrap\;">ne-day enrollment event where continuing your education is made as easy as possible. Receive academic advising\, learn about financial aid\, registration and student support services.</span></span>
LOCATION:Porterville College | SCCR 100 E. College Avenue Porterville\, CA 93257
UID:e.2225.2080
SEQUENCE:3
DTSTAMP:20260421T034920Z
URL:https://business.portervillechamber.org/events/details/fresno-pacific-university-enrollment-express-2080
END:VEVENT

END:VCALENDAR
