BEGIN:VCALENDAR
VERSION:2.0
PRODID:-//ChamberMaster//Event Calendar 2.0//EN
METHOD:PUBLISH
X-PUBLISHED-TTL:P3D
REFRESH-INTERVAL:P3D
CALSCALE:GREGORIAN
BEGIN:VEVENT
DTSTART:20180320T183000Z
DTEND:20180320T203000Z
X-MICROSOFT-CDO-ALLDAYEVENT:FALSE
SUMMARY:Fundamentals of Investing Seminar
DESCRIPTION:You are invited to join Wells Fargo for an educational seminar workshop\, 'Fundamentals of Investing." Topics of discussion will be why to invest\, what to invest in\, and where. \n\n\n\nSeats are limited\, please call the Chamber to RSVP.
X-ALT-DESC;FMTTYPE=text/html:You are invited to join Wells Fargo&nbsp\;for an educational seminar workshop\, &#39\;Fundamentals of Investing.&quot\; Topics of discussion will be why to invest\, what to invest in\, and where.&nbsp\;<br />\n<br />\nSeats are limited\, please call the Chamber to RSVP.&nbsp\;
LOCATION:Porterville Chamber of Commerce Conference Room
UID:e.2225.1457
SEQUENCE:3
DTSTAMP:20260422T150006Z
URL:https://business.portervillechamber.org/events/details/fundamentals-of-investing-seminar-1457
END:VEVENT

END:VCALENDAR
