BEGIN:VCALENDAR
VERSION:2.0
PRODID:-//ChamberMaster//Event Calendar 2.0//EN
METHOD:PUBLISH
X-PUBLISHED-TTL:P3D
REFRESH-INTERVAL:P3D
CALSCALE:GREGORIAN
BEGIN:VEVENT
DTSTART:20191018T010000Z
DTEND:20191018T030000Z
X-MICROSOFT-CDO-ALLDAYEVENT:FALSE
SUMMARY:GIVE CANCER THE BOOT!
DESCRIPTION:Join Sierra View Medical Center for the annual Breast Cancer Awareness event for an evening of food\, games\, vendors\, prizes and line dancing! The will also be announcing the Pink in the District business-to-business and hospital-wide decorating contest winners. This is a free public event.
X-ALT-DESC;FMTTYPE=text/html:Join Sierra View Medical Center for the annual <strong>Breast Cancer Awareness </strong>event for an evening of food\, games\, vendors\, prizes and line dancing! The will also be announcing the <strong>Pink in the District</strong> business-to-business and hospital-wide decorating contest winners. <strong>This is a free public event. </strong>
LOCATION:Sierra View Medical Center LRN - Conference Rooms
UID:e.2225.2066
SEQUENCE:3
DTSTAMP:20260421T035011Z
URL:https://business.portervillechamber.org/events/details/give-cancer-the-boot-2066
END:VEVENT

END:VCALENDAR
