BEGIN:VCALENDAR
VERSION:2.0
PRODID:-//ChamberMaster//Event Calendar 2.0//EN
METHOD:PUBLISH
X-PUBLISHED-TTL:P3D
REFRESH-INTERVAL:P3D
CALSCALE:GREGORIAN
BEGIN:VEVENT
DTSTART;VALUE=DATE:20170810
DTEND;VALUE=DATE:20170812
TRANSP:TRANSPARENT
X-MICROSOFT-CDO-ALLDAYEVENT:TRUE
SUMMARY:Global Leadership Sumitt Your influence matters
DESCRIPTION:PortNaz
X-ALT-DESC;FMTTYPE=text/html:PortNaz
LOCATION:
UID:e.2225.1231
SEQUENCE:3
DTSTAMP:20260423T013027Z
URL:https://business.portervillechamber.org/events/details/global-leadership-sumitt-your-influence-matters-1231
END:VEVENT

END:VCALENDAR
