BEGIN:VCALENDAR
VERSION:2.0
PRODID:-//ChamberMaster//Event Calendar 2.0//EN
METHOD:PUBLISH
X-PUBLISHED-TTL:P3D
REFRESH-INTERVAL:P3D
CALSCALE:GREGORIAN
BEGIN:VEVENT
DTSTART:20190811T010000Z
DTEND:20190811T050000Z
X-MICROSOFT-CDO-ALLDAYEVENT:FALSE
SUMMARY:Glow Ball Golf Tournament
DESCRIPTION:Glow Ball Gold Tournament is a 4 person scramble. \n\nDinner/Registration: 6:00pm\n\n50/50 Raffle Start: 6:30pm\n\nShotgun Start: 8:00pm\n\n\n\nProceeds raised from the tournament will be used to fund Porterville Police Department's Pink Patch Project. The Pink Patch Project was started to bring awareness and raise funds for breast cancer research. The Porterville Police Department donates the proceeds from the patch sales to Sierra View District Hospital's Roger S. Good Cancer Center.
X-ALT-DESC;FMTTYPE=text/html:Glow Ball Gold Tournament is a 4 person scramble.&nbsp\;<br />\nDinner/Registration: 6:00pm<br />\n50/50 Raffle Start: 6:30pm<br />\nShotgun Start: 8:00pm<br />\n<br />\nProceeds raised from the tournament will be used to fund Porterville Police Department&#39\;s Pink Patch Project. The Pink Patch Project was started to bring awareness and raise funds for breast cancer research. The Porterville Police Department donates the proceeds from the patch sales to Sierra View District Hospital&#39\;s Roger S. Good Cancer Center.&nbsp\;
LOCATION:Porterville Municipal Golf Course 702 E. Isham\, Porterville\, CA 93257
UID:e.2225.1992
SEQUENCE:3
DTSTAMP:20260421T092308Z
URL:https://business.portervillechamber.org/events/details/glow-ball-golf-tournament-1992
END:VEVENT

END:VCALENDAR
