BEGIN:VCALENDAR
VERSION:2.0
PRODID:-//ChamberMaster//Event Calendar 2.0//EN
METHOD:PUBLISH
X-PUBLISHED-TTL:P3D
REFRESH-INTERVAL:P3D
CALSCALE:GREGORIAN
BEGIN:VEVENT
DTSTART:20180618T190000Z
DTEND:20180619T040000Z
X-MICROSOFT-CDO-ALLDAYEVENT:FALSE
SUMMARY:Golf for Life Golf tournament
DESCRIPTION:Visalia Country Club hosts Darrel Waterman Memorial Golf Tournament Tulare-Kings Right to Life's (TKRL) Darrel Waterman Memorial 17th Annual Golf for Life tournament is scheduled for Monday\, June 18th\, at the Visalia Country Club. The 4-person shot-gun scramble represents a major fundraising event for TKRL. Entry fee is $175 per person\, which entitles the participant to 18 holes of golf on one of Central California's finest courses\, plus lunch and a dinner banquet at the VCC dinning room. Check-in begins at 10:30 a.m. with tee-off at 12:00noon. This year's tournament features golf for four at Poppy Hills golf course at Pebble Beach for the First Place team\, plus a wide variety of raffle prizes and live auction items. TKRL is a community benefit organization that works for restored moral\, cultural and legal respect for innocent human life\, reaching out to a society afflicted by legalized abortion\, infanticide\, assisted suicide and euthanasia. TKRL offers education in these life issues and promotes healing hope for anyone injured in heart\, mind and body by participation in such attacks against the value of human life. For information about Sponsor Packages and/or Registration Forms\, contact our office at 732-5000\, or visit www.tkrl.org.
X-ALT-DESC;FMTTYPE=text/html:Visalia Country Club hosts Darrel Waterman Memorial Golf Tournament Tulare-Kings Right to Life&rsquo\;s (TKRL) Darrel Waterman Memorial 17th Annual Golf for Life tournament is scheduled for Monday\, June 18th\, at the Visalia Country Club. The 4-person shot-gun scramble represents a major fundraising event for TKRL. Entry fee is $175 per person\, which entitles the participant to 18 holes of golf on one of Central California&rsquo\;s finest courses\, plus lunch and a dinner banquet at the VCC dinning room. Check-in begins at 10:30 a.m. with tee-off at 12:00noon. This year&rsquo\;s tournament features golf for four at Poppy Hills golf course at Pebble Beach for the First Place team\, plus a wide variety of raffle prizes and live auction items. TKRL is a community benefit organization that works for restored moral\, cultural and legal respect for innocent human life\, reaching out to a society afflicted by legalized abortion\, infanticide\, assisted suicide and euthanasia. TKRL offers education in these life issues and promotes healing hope for anyone injured in heart\, mind and body by participation in such attacks against the value of human life. For information about Sponsor Packages and/or Registration Forms\, contact our office at 732-5000\, or visit www.tkrl.org.
LOCATION:Visalia Country Club
UID:e.2225.1489
SEQUENCE:3
DTSTAMP:20260422T075535Z
URL:https://business.portervillechamber.org/events/details/golf-for-life-golf-tournament-1489
END:VEVENT

END:VCALENDAR
