BEGIN:VCALENDAR
VERSION:2.0
PRODID:-//ChamberMaster//Event Calendar 2.0//EN
METHOD:PUBLISH
X-PUBLISHED-TTL:P3D
REFRESH-INTERVAL:P3D
CALSCALE:GREGORIAN
BEGIN:VEVENT
DTSTART:20180125T170000Z
DTEND:20180125T180000Z
X-MICROSOFT-CDO-ALLDAYEVENT:FALSE
SUMMARY:Government Affairs Meeting
DESCRIPTION:The Government Affairs Meeting will take place at the Chamber Conference Room. This month's Guest Speaker is CHP Office\, Marc McWilliams\, Public Information Office for Porterville CHP office. \n\n\n\nGovernment Affairs meets every fourth Thursday of the month.
X-ALT-DESC;FMTTYPE=text/html:The Government Affairs Meeting will take place at the Chamber Conference Room. This month&#39\;s Guest Speaker is CHP Office\, Marc&nbsp\;McWilliams\, Public Information Office for Porterville CHP office.&nbsp\;<br />\n<br />\nGovernment Affairs meets every fourth Thursday of the month.&nbsp\;
LOCATION:93 N Main Street
UID:e.2225.1030
SEQUENCE:3
DTSTAMP:20260422T163529Z
URL:https://business.portervillechamber.org/events/details/government-affairs-meeting-01-25-2018-1030
END:VEVENT

END:VCALENDAR
