BEGIN:VCALENDAR
VERSION:2.0
PRODID:-//ChamberMaster//Event Calendar 2.0//EN
METHOD:PUBLISH
X-PUBLISHED-TTL:P3D
REFRESH-INTERVAL:P3D
CALSCALE:GREGORIAN
BEGIN:VEVENT
DTSTART:20180222T170000Z
DTEND:20180222T180000Z
X-MICROSOFT-CDO-ALLDAYEVENT:FALSE
SUMMARY:Government Affairs Meeting
DESCRIPTION:The Tule River Tribe will be attending the Government Affairs Meeting to provide an update on the proposed Eagle Mountain Casino relocation. Tule River Tribe Council Members will give a presentation and answer any questions regarding the relocation process.
X-ALT-DESC;FMTTYPE=text/html:<span style="font-family:arial\,sans-serif\;"><span style="font-size:12.0pt\;">The Tule River Tribe will be attending the Government Affairs Meeting to provide an update on the proposed Eagle Mountain Casino relocation. Tule River Tribe Council Members will give a presentation and answer any questions regarding the relocation process.</span></span>
LOCATION:15 East Thurman Avenue\, Porterville\, in the Centennial Plaza Conference Room
UID:e.2225.1031
SEQUENCE:3
DTSTAMP:20260422T145129Z
URL:https://business.portervillechamber.org/events/details/government-affairs-meeting-02-22-2018-1031
END:VEVENT

END:VCALENDAR
