BEGIN:VCALENDAR
VERSION:2.0
PRODID:-//ChamberMaster//Event Calendar 2.0//EN
METHOD:PUBLISH
X-PUBLISHED-TTL:P3D
REFRESH-INTERVAL:P3D
CALSCALE:GREGORIAN
BEGIN:VEVENT
DTSTART:20180329T160000Z
DTEND:20180329T170000Z
X-MICROSOFT-CDO-ALLDAYEVENT:FALSE
SUMMARY:Government Affairs Meeting
DESCRIPTION:Guest Speakers: Jenni Byers and Jason Ridenour from the City of Porterville\n\nThey will be presenting information regarding CDBG (Block Grant)
X-ALT-DESC;FMTTYPE=text/html:Guest Speakers: Jenni Byers and Jason Ridenour from the City of Porterville<br />\nThey will be presenting information regarding CDBG&nbsp\;(Block Grant)
LOCATION:Chamber Conference Room
UID:e.2225.1032
SEQUENCE:3
DTSTAMP:20260422T145630Z
URL:https://business.portervillechamber.org/events/details/government-affairs-meeting-03-29-2018-1032
END:VEVENT

END:VCALENDAR
