BEGIN:VCALENDAR
VERSION:2.0
PRODID:-//ChamberMaster//Event Calendar 2.0//EN
METHOD:PUBLISH
X-PUBLISHED-TTL:P3D
REFRESH-INTERVAL:P3D
CALSCALE:GREGORIAN
BEGIN:VEVENT
DTSTART:20200827T190000Z
DTEND:20200827T200000Z
X-MICROSOFT-CDO-ALLDAYEVENT:FALSE
SUMMARY:Government Affairs Meeting
DESCRIPTION:
X-ALT-DESC;FMTTYPE=text/html:
LOCATION:Virtual Zoom Meeting - Contact Chamber for Meeting Information
UID:e.2225.1061
SEQUENCE:3
DTSTAMP:20260420T102107Z
URL:https://business.portervillechamber.org/events/details/government-affairs-meeting-08-27-2020-1061
END:VEVENT

END:VCALENDAR
