BEGIN:VCALENDAR
VERSION:2.0
PRODID:-//ChamberMaster//Event Calendar 2.0//EN
METHOD:PUBLISH
X-PUBLISHED-TTL:P3D
REFRESH-INTERVAL:P3D
CALSCALE:GREGORIAN
BEGIN:VEVENT
DTSTART:20191031T190000Z
DTEND:20191031T200000Z
X-MICROSOFT-CDO-ALLDAYEVENT:FALSE
SUMMARY:Government Affairs Meeting
DESCRIPTION:
X-ALT-DESC;FMTTYPE=text/html:
LOCATION:Chamber Conference Room
UID:e.2225.1051
SEQUENCE:3
DTSTAMP:20260421T035414Z
URL:https://business.portervillechamber.org/events/details/government-affairs-meeting-10-31-2019-1051
END:VEVENT

END:VCALENDAR
