BEGIN:VCALENDAR
VERSION:2.0
PRODID:-//ChamberMaster//Event Calendar 2.0//EN
METHOD:PUBLISH
X-PUBLISHED-TTL:P3D
REFRESH-INTERVAL:P3D
CALSCALE:GREGORIAN
BEGIN:VEVENT
DTSTART:20200226T223000Z
DTEND:20200226T233000Z
X-MICROSOFT-CDO-ALLDAYEVENT:FALSE
SUMMARY:Ground Breaking: PUSD Pathways House
DESCRIPTION:Celebrate the Ground Breaking and "Raising of the Wall" for the 2020 Pathways House with PUSD\, the City of Porterville\, the Porterville Chamber of Commerce\, and industry partner professionals. Refreshments will be served.
X-ALT-DESC;FMTTYPE=text/html:Celebrate the Ground Breaking and &quot\;Raising of the Wall&quot\; for the 2020 Pathways House with PUSD\, the City of Porterville\, the Porterville Chamber of Commerce\, and industry partner professionals. Refreshments will be served.
LOCATION:371 S. G Street Porterville\, CA 93257
UID:e.2225.2138
SEQUENCE:3
DTSTAMP:20260420T202546Z
URL:https://business.portervillechamber.org/events/details/ground-breaking-pusd-pathways-house-2138
END:VEVENT

END:VCALENDAR
