BEGIN:VCALENDAR
VERSION:2.0
PRODID:-//ChamberMaster//Event Calendar 2.0//EN
METHOD:PUBLISH
X-PUBLISHED-TTL:P3D
REFRESH-INTERVAL:P3D
CALSCALE:GREGORIAN
BEGIN:VEVENT
DTSTART:20181014T000000Z
DTEND:20181014T010000Z
X-MICROSOFT-CDO-ALLDAYEVENT:FALSE
SUMMARY:Grower & Customer Appreciation Dinner
DESCRIPTION:Homegrown Organic Farms\, Please join us for the 19th Annual Grower & Customer Appreciation dinner.\n\nPlease RSVP by September 21\, 2018
X-ALT-DESC;FMTTYPE=text/html:Homegrown Organic Farms\, Please join us for the 19th Annual Grower &amp\; Customer Appreciation dinner.<br />\nPlease RSVP by September 21\, 2018
LOCATION:The France Ranch\, 2042 S. Newcomb Street\, Porterville CA 93257
UID:e.2225.1790
SEQUENCE:3
DTSTAMP:20260422T003241Z
URL:https://business.portervillechamber.org/events/details/grower-customer-appreciation-dinner-1790
END:VEVENT

END:VCALENDAR
