BEGIN:VCALENDAR
VERSION:2.0
PRODID:-//ChamberMaster//Event Calendar 2.0//EN
METHOD:PUBLISH
X-PUBLISHED-TTL:P3D
REFRESH-INTERVAL:P3D
CALSCALE:GREGORIAN
BEGIN:VEVENT
DTSTART:20200821T190000Z
DTEND:20200829T030000Z
X-MICROSOFT-CDO-ALLDAYEVENT:FALSE
SUMMARY:Habitat for Humanity's 15th Annual (Virtual) Birdhouse Auction
DESCRIPTION:Habitat for Humanity's 15th Annual Birdhouse Auction is going online! Due to the current public health crisis\, Habitat is holding its annual fundraising event virtually. Bids can be placed on whimsical\, hand-made birdhouses and doghouses\, as well as gift baskets and other fun items! Visit https://www.hfhtkc.org/online-birdhouse-auction/ for more information. Bidder registration is free! Bidding opens August 21st and closes August 28th. Sponsorship opportunities are available.
X-ALT-DESC;FMTTYPE=text/html:Habitat for Humanity&rsquo\;s 15th Annual Birdhouse Auction is going online! Due to the current public health crisis\, Habitat is holding its annual fundraising event virtually. Bids can be placed on whimsical\, hand-made birdhouses and doghouses\, as well as gift baskets and other fun items! Visit https://www.hfhtkc.org/online-birdhouse-auction/ for more information. Bidder registration is free! Bidding opens August 21st and closes August 28th. Sponsorship opportunities are available.
LOCATION:Online
UID:e.2225.2147
SEQUENCE:3
DTSTAMP:20260420T102148Z
URL:https://business.portervillechamber.org/events/details/habitat-for-humanity-s-15th-annual-virtual-birdhouse-auction-2147
END:VEVENT

END:VCALENDAR
