BEGIN:VCALENDAR
VERSION:2.0
PRODID:-//ChamberMaster//Event Calendar 2.0//EN
METHOD:PUBLISH
X-PUBLISHED-TTL:P3D
REFRESH-INTERVAL:P3D
CALSCALE:GREGORIAN
BEGIN:VEVENT
DTSTART:20190126T040000Z
DTEND:20190126T070000Z
X-MICROSOFT-CDO-ALLDAYEVENT:FALSE
SUMMARY:Hands in the Community - Comedy Blast
DESCRIPTION:A night of side - splitting hilarity for the while family! Featuring the off - the wall duo of comedian Ken Davis and Ventriloquist David Pendleton.
X-ALT-DESC;FMTTYPE=text/html:A night of side - splitting hilarity for the while family! Featuring the off - the wall duo of comedian Ken Davis and Ventriloquist David Pendleton.
LOCATION:Akers and Caldwell\, Visalia
UID:e.2225.1860
SEQUENCE:3
DTSTAMP:20260421T192242Z
URL:https://business.portervillechamber.org/events/details/hands-in-the-community-comedy-blast-1860
END:VEVENT

END:VCALENDAR
