BEGIN:VCALENDAR
VERSION:2.0
PRODID:-//ChamberMaster//Event Calendar 2.0//EN
METHOD:PUBLISH
X-PUBLISHED-TTL:P3D
REFRESH-INTERVAL:P3D
CALSCALE:GREGORIAN
BEGIN:VEVENT
DTSTART:20180407T003000Z
DTEND:20180407T030000Z
X-MICROSOFT-CDO-ALLDAYEVENT:FALSE
SUMMARY:Harmony Magnet Academy-10th Year Anniversary
DESCRIPTION:Harmony Magnet Academy celebrates their 10th Year Anniversary\n\nDinner available for purchase\n\nFeatured Performances: Mariachi\, Folkloric Dancers and the Abbey Road Beatles Tribute Band
X-ALT-DESC;FMTTYPE=text/html:Harmony Magnet Academy celebrates their 10th Year Anniversary<br />\nDinner available for purchase<br />\nFeatured Performances: Mariachi\, Folkloric Dancers and the Abbey Road Beatles Tribute Band
LOCATION:Harmony Magnet Academy 19429 Rd. 228\, Strathmore
UID:e.2225.1466
SEQUENCE:3
DTSTAMP:20260422T113031Z
URL:https://business.portervillechamber.org/events/details/harmony-magnet-academy-10th-year-anniversary-1466
END:VEVENT

END:VCALENDAR
