BEGIN:VCALENDAR
VERSION:2.0
PRODID:-//ChamberMaster//Event Calendar 2.0//EN
METHOD:PUBLISH
X-PUBLISHED-TTL:P3D
REFRESH-INTERVAL:P3D
CALSCALE:GREGORIAN
BEGIN:VEVENT
DTSTART:20180302T200000Z
DTEND:20180303T000000Z
X-MICROSOFT-CDO-ALLDAYEVENT:FALSE
SUMMARY:Helping Hands of Porterville Taco Fundraiser
DESCRIPTION:Helping Hands of Porterville is having a fundraiser \n\n2 chicken tacos\, mexican rice\, beans and a dessert\n\nDonations of $5 of a plate will help\, helping hands continue to provide hot meals to o ur less fortunate in the community.
X-ALT-DESC;FMTTYPE=text/html:Helping Hands of Porterville is having a fundraiser&nbsp\;<br />\n2 chicken tacos\, mexican rice\, beans and a dessert<br />\nDonations of $5 of a plate will help\, helping hands continue to provide hot meals to o ur less fortunate in the community.&nbsp\;
LOCATION:135 E Olive Ave
UID:e.2225.1439
SEQUENCE:3
DTSTAMP:20260422T150120Z
URL:https://business.portervillechamber.org/events/details/helping-hands-of-porterville-taco-fundraiser-1439
END:VEVENT

END:VCALENDAR
