BEGIN:VCALENDAR
VERSION:2.0
PRODID:-//ChamberMaster//Event Calendar 2.0//EN
METHOD:PUBLISH
X-PUBLISHED-TTL:P3D
REFRESH-INTERVAL:P3D
CALSCALE:GREGORIAN
BEGIN:VEVENT
DTSTART:20180303T160000Z
DTEND:20180304T010000Z
X-MICROSOFT-CDO-ALLDAYEVENT:FALSE
SUMMARY:Home Buyers Class
DESCRIPTION:Are you ready to buy a home? Register for a class that can answer your questions\, for FREE! \n\nSeats are limited\, Call and register at 559-791-7872
X-ALT-DESC;FMTTYPE=text/html:Are you ready to buy a home? Register for a class that can answer your questions\, for FREE!&nbsp\;<br />\nSeats are limited\, Call and register at 559-791-7872
LOCATION:City Hall 291 N Main Street Porterville CA 93257
UID:e.2225.1433
SEQUENCE:3
DTSTAMP:20260422T145430Z
URL:https://business.portervillechamber.org/events/details/home-buyers-class-1433
END:VEVENT

END:VCALENDAR
