BEGIN:VCALENDAR
VERSION:2.0
PRODID:-//ChamberMaster//Event Calendar 2.0//EN
METHOD:PUBLISH
X-PUBLISHED-TTL:P3D
REFRESH-INTERVAL:P3D
CALSCALE:GREGORIAN
BEGIN:VEVENT
DTSTART:20180818T010000Z
DTEND:20180818T050000Z
X-MICROSOFT-CDO-ALLDAYEVENT:FALSE
SUMMARY:Hot August Nights Auction Dinner
DESCRIPTION:The Porterville Chamber of Commerce's Auction & Dinner will be held at the Veterans Memorial Building. This year's event theme is Hot August Nights and guests are invited to dress casual.  Attendees arrive at 6:00 p.m. to enjoy networking\, a no host cocktail hour\, and the much-anticipated silent auction featuring over 200 items up for bid.  Items include get-away packages\, jewelry\, home d cor\, gift baskets galore\, spa services\, restaurant certificates\, and a multitude of other items. Tickets will be on sale in July and are $40 per person and can be purchased at the Chamber office or from any Director or Auction Committee member. Businesses will want to take advantage of this opportunity to gain marketing exposure by sponsoring or contributing an auction item.  Contact the Chamber office to find out how your business or organization can best benefit from participation.
X-ALT-DESC;FMTTYPE=text/html:The Porterville Chamber of Commerce&rsquo\;s Auction &amp\; Dinner will be held at the Veterans Memorial Building. This year&rsquo\;s event theme is Hot August Nights and guests are invited to dress casual<em>.</em>&nbsp\; Attendees arrive at 6:00 p.m. to enjoy networking\, a no host cocktail hour\, and the much-anticipated silent auction featuring over 200 items up for bid.&nbsp\; Items include get-away packages\, jewelry\, home d&eacute\;cor\, gift baskets galore\, spa services\, restaurant certificates\, and a multitude of other items. Tickets will be on sale in July and are $40 per person and can be purchased at the Chamber office or from any Director or Auction Committee member. Businesses will want to take advantage of this opportunity to gain marketing exposure by sponsoring or contributing an auction item.&nbsp\; Contact the Chamber office to find out how your business or organization can best benefit from participation.<br />\n&nbsp\;
LOCATION:1900 W Olive Ave
UID:e.2225.1451
SEQUENCE:3
DTSTAMP:20260422T040935Z
URL:https://business.portervillechamber.org/events/details/hot-august-nights-auction-dinner-1451
END:VEVENT

END:VCALENDAR
