BEGIN:VCALENDAR
VERSION:2.0
PRODID:-//ChamberMaster//Event Calendar 2.0//EN
METHOD:PUBLISH
X-PUBLISHED-TTL:P3D
REFRESH-INTERVAL:P3D
CALSCALE:GREGORIAN
BEGIN:VEVENT
DTSTART:20201218T003000Z
DTEND:20201218T013000Z
X-MICROSOFT-CDO-ALLDAYEVENT:FALSE
SUMMARY:Iconnect Mixer
DESCRIPTION:Come join us for our December Mixer\n\nSponsored by Staff Worthy.
X-ALT-DESC;FMTTYPE=text/html:Come join us for our December Mixer<br />\nSponsored by Staff Worthy.
LOCATION:Virtual Meeting Via ZOOM
UID:e.2225.859
SEQUENCE:3
DTSTAMP:20260420T031215Z
URL:https://business.portervillechamber.org/events/details/iconnect-mixer-859
END:VEVENT

END:VCALENDAR
